BEGIN:VCALENDAR
VERSION:2.0
PRODID:-//Edgewall Software//NONSGML Trac 1.0.2//EN
METHOD:PUBLISH
X-WR-CALNAME:ASA Database - Roadmap
X-WR-CALDESC:The ASA Database stores information about MIT's student groups
 \, and is used by the ASA\, SAO\, and other MIT office's. A next-generatio
 n ASA database is currently under development.
X-WR-TIMEZONE:UTC-04:00
BEGIN:VEVENT
UID:</trac/milestone/Near Release@asa.scripts.mit.edu/trac>
DTSTAMP:20120206T050000Z
DTSTART;VALUE=DATE:20120206
SUMMARY:Milestone Near Release
URL:https://asa.scripts.mit.edu/trac/milestone/Near%20Release
END:VEVENT
BEGIN:VEVENT
UID:</trac/milestone/Post Django 1.4@asa.scripts.mit.edu/trac>
DTSTAMP:20121001T040000Z
DTSTART;VALUE=DATE:20121001
SUMMARY:Milestone Post Django 1.4
URL:https://asa.scripts.mit.edu/trac/milestone/Post%20Django%201.4
END:VEVENT
BEGIN:VEVENT
UID:</trac/milestone/Summer 2013@asa.scripts.mit.edu/trac>
DTSTAMP:20130601T040000Z
DTSTART;VALUE=DATE:20130601
SUMMARY:Milestone Summer 2013
URL:https://asa.scripts.mit.edu/trac/milestone/Summer%202013
END:VEVENT
BEGIN:VEVENT
UID:</trac/milestone/Fall 2013@asa.scripts.mit.edu/trac>
DTSTAMP:20131001T040000Z
DTSTART;VALUE=DATE:20131001
SUMMARY:Milestone Fall 2013
URL:https://asa.scripts.mit.edu/trac/milestone/Fall%202013
END:VEVENT
END:VCALENDAR
